BEGIN:VCALENDAR
VERSION:2.0
PRODID:-//SP Zürich 11 - ECPv6.15.20//NONSGML v1.0//EN
CALSCALE:GREGORIAN
METHOD:PUBLISH
X-WR-CALNAME:SP Zürich 11
X-ORIGINAL-URL:https://sp11.ch
X-WR-CALDESC:Veranstaltungen im SP Zürich 11
REFRESH-INTERVAL;VALUE=DURATION:PT1H
X-Robots-Tag:noindex
X-PUBLISHED-TTL:PT1H
BEGIN:VTIMEZONE
TZID:Europe/Zurich
BEGIN:DAYLIGHT
TZOFFSETFROM:+0100
TZOFFSETTO:+0200
TZNAME:CEST
DTSTART:20250330T010000
END:DAYLIGHT
BEGIN:STANDARD
TZOFFSETFROM:+0200
TZOFFSETTO:+0100
TZNAME:CET
DTSTART:20251026T010000
END:STANDARD
BEGIN:DAYLIGHT
TZOFFSETFROM:+0100
TZOFFSETTO:+0200
TZNAME:CEST
DTSTART:20260329T010000
END:DAYLIGHT
BEGIN:STANDARD
TZOFFSETFROM:+0200
TZOFFSETTO:+0100
TZNAME:CET
DTSTART:20261025T010000
END:STANDARD
BEGIN:DAYLIGHT
TZOFFSETFROM:+0100
TZOFFSETTO:+0200
TZNAME:CEST
DTSTART:20270328T010000
END:DAYLIGHT
BEGIN:STANDARD
TZOFFSETFROM:+0200
TZOFFSETTO:+0100
TZNAME:CET
DTSTART:20271031T010000
END:STANDARD
END:VTIMEZONE
BEGIN:VEVENT
DTSTART;TZID=Europe/Zurich:20260905T193000
DTEND;TZID=Europe/Zurich:20260905T213000
DTSTAMP:20260420T072743
CREATED:20260118T110749Z
LAST-MODIFIED:20260118T110820Z
UID:89128-1788636600-1788643800@sp11.ch
SUMMARY:Mitgliederversammlung mit Parlamentarier*innen und Behördenmitglieder
DESCRIPTION:
URL:https://sp11.ch/veranstaltung/mitgliederversammlung-mit-parlamentarierinnen-und-behoerdenmitglieder/
CATEGORIES:Mitgliederversammlung
ORGANIZER;CN="SP Z%C3%BCrich 11":MAILTO:vorstand@sp11.ch
END:VEVENT
END:VCALENDAR